BEGIN:VCALENDAR
VERSION:2.0
PRODID:-//Northstar Watermedia Society - ECPv6.15.17.1//NONSGML v1.0//EN
CALSCALE:GREGORIAN
METHOD:PUBLISH
X-ORIGINAL-URL:https://northstarwatermedia.com
X-WR-CALDESC:Events for Northstar Watermedia Society
REFRESH-INTERVAL;VALUE=DURATION:PT1H
X-Robots-Tag:noindex
X-PUBLISHED-TTL:PT1H
BEGIN:VTIMEZONE
TZID:UTC
BEGIN:STANDARD
TZOFFSETFROM:+0000
TZOFFSETTO:+0000
TZNAME:UTC
DTSTART:20240101T000000
END:STANDARD
END:VTIMEZONE
BEGIN:VEVENT
DTSTART;TZID=UTC:20250503T100000
DTEND;TZID=UTC:20250503T100000
DTSTAMP:20260421T222435
CREATED:20250326T104918Z
LAST-MODIFIED:20250417T064434Z
UID:21997890-1746266400-1746266400@northstarwatermedia.com
SUMMARY:NorthStar Watermedia Member Show 2025: The Green of Spring
DESCRIPTION:Dow Art Gallery\, 2242 University Ave. St. Paul\, MN 55114\nEntry is limited to NSWS members. All experience levels are welcome! Each member may submit one painting for a fee of $25 or two paintings for $30.00.\nCatherine Hearding has agreed to jury the show. \nRegistration for the exhibition is now open! Please use the online form to register. This is the easiest and most secure way to register. Please click on this link to register. At the end of the form\, click the submit button and you will be directed to a secure on-line payment system through Square. If you use this link\, there is no need to print or mail your form. After you complete your registration\, you will be given instructions on where to email a photo of your painting(s). \nIf you are not able to use the on-line form\, you may print a copy of the form to mail with your check. Click here to download and print in pdf format. Paper membership forms and checks can be mailed to: NSWS Member Exhibition\, c/o  Mary Zadach\, 1023 Nebraska Ave West\, St. Paul\, MN 55117. \nDeadline for registration is 11:59 p.m. April 17\, 2025. \nRULES\n\nEach current member may submit one or two painting(s) done after March 2022\nThe work must be completely original to the artist and not done in a class and not previously exhibited in any NSWS exhibition. Try to incorporate green into your work so we have a cohesive display.\nThere is no jury for acceptance in the exhibit. Our juror\, Catherine Hearding\, will choose awards.\nThe maximum size of framed art cannot exceed 42” in any direction.\nAcceptable mediums are watercolor\, acrylic\, casein\, gouache\, water-soluble ink\, and egg tempera\, with no more than 25% collage or drawing. Collage items must have been created by the artist.\nAcceptable supports are paper\, yupo\, canvas\, canvas board\, or board.\nArtwork must be family friendly\, no hate or nudes.\nArtwork 24” or larger in any direction must be framed with plexiglass\, only if the painting would normally be covered by either glass or plexi.\nAll art must have a hanging wire\, center 2 inches from the top of the frame. No sawtooth hangers.\nDow Gallery will assist in sales. There is no commission on sales. Sold artwork must remain in the exhibit until it closes. The artist is responsible for their own insurance.\nEntrants give NSWS permission to make digital images of submitted paintings for virtual show and promotional materials.\nSubmit photo(s) of your artwork digitally to LouAnn Hoppe at louhoppe@gmail.com and Shakun Maheshwari at: shakuntaladesign@yahoo.com. Please send a JPEG or JPG that is under 5MB\, 72 ppi\, with a minimum of 1200 pixels on the longest side. Rename your file with 1. last name first name title and 2. last name first name title (i.e.\, 1nelson heidi rushing waters\, 2nelson\,heidi morning sunrise)\nNSWS must receive a fee of $25 for one entry or $30 for two entries. If you prefer to send a check\, send it to NSWS Member Exhibition\, c/o Mary Zadach\, 1023 Nebraska Avenue West\, St. Paul\, MN 55117.
URL:https://northstarwatermedia.com/event/northstar-watermedia-member-show-2025-the-green-of-spring/
CATEGORIES:Exhibitions
END:VEVENT
END:VCALENDAR