BEGIN:VCALENDAR
VERSION:2.0
PRODID:-//Northstar Watermedia Society - ECPv6.15.17.1//NONSGML v1.0//EN
CALSCALE:GREGORIAN
METHOD:PUBLISH
X-ORIGINAL-URL:https://northstarwatermedia.com
X-WR-CALDESC:Events for Northstar Watermedia Society
REFRESH-INTERVAL;VALUE=DURATION:PT1H
X-Robots-Tag:noindex
X-PUBLISHED-TTL:PT1H
BEGIN:VTIMEZONE
TZID:America/Chicago
BEGIN:DAYLIGHT
TZOFFSETFROM:-0600
TZOFFSETTO:-0500
TZNAME:CDT
DTSTART:20240310T080000
END:DAYLIGHT
BEGIN:STANDARD
TZOFFSETFROM:-0500
TZOFFSETTO:-0600
TZNAME:CST
DTSTART:20241103T070000
END:STANDARD
BEGIN:DAYLIGHT
TZOFFSETFROM:-0600
TZOFFSETTO:-0500
TZNAME:CDT
DTSTART:20250309T080000
END:DAYLIGHT
BEGIN:STANDARD
TZOFFSETFROM:-0500
TZOFFSETTO:-0600
TZNAME:CST
DTSTART:20251102T070000
END:STANDARD
BEGIN:DAYLIGHT
TZOFFSETFROM:-0600
TZOFFSETTO:-0500
TZNAME:CDT
DTSTART:20260308T080000
END:DAYLIGHT
BEGIN:STANDARD
TZOFFSETFROM:-0500
TZOFFSETTO:-0600
TZNAME:CST
DTSTART:20261101T070000
END:STANDARD
END:VTIMEZONE
BEGIN:VEVENT
DTSTART;TZID=America/Chicago:20251218T190000
DTEND;TZID=America/Chicago:20251218T210000
DTSTAMP:20260423T032359
CREATED:20251029T145656Z
LAST-MODIFIED:20251029T151307Z
UID:21998762-1766084400-1766091600@northstarwatermedia.com
SUMMARY:Holiday Cards With Alyssa Whetstone - Interactive Zoom Event
DESCRIPTION:Join our very own\, Alyssa Whetstone\, for a warm\, fun-filled evening of making holiday cards! Alyssa will demonstrate how to create holiday-themed cards using watercolor and pen. This event will be live on Zoom on December 18th at 7pm. Watch for a link in your email for this event. Grab your paint and brushes\, a pen (the uniball gel pens work very well for this project)\, warm socks\, a cup of hot cocoa (don’t dip your brush in this though\, ha!)\, and join us for a relaxing evening of painting at home.
URL:https://northstarwatermedia.com/event/holiday-cards-with-alyssa-whetstone-interactive-zoom-event/
LOCATION:MN
CATEGORIES:Monthly Meeting
ATTACH;FMTTYPE=image/jpeg:https://northstarwatermedia.com/wp-content/uploads/2025/10/16.jpg
END:VEVENT
END:VCALENDAR